BEGIN:VCALENDAR
VERSION:2.0
PRODID:-//TCS Tennisclub Sigmarszell - ECPv6.15.20//NONSGML v1.0//EN
CALSCALE:GREGORIAN
METHOD:PUBLISH
X-ORIGINAL-URL:https://tc-sigmarszell.de
X-WR-CALDESC:Veranstaltungen für TCS Tennisclub Sigmarszell
REFRESH-INTERVAL;VALUE=DURATION:PT1H
X-Robots-Tag:noindex
X-PUBLISHED-TTL:PT1H
BEGIN:VTIMEZONE
TZID:UTC
BEGIN:STANDARD
TZOFFSETFROM:+0000
TZOFFSETTO:+0000
TZNAME:UTC
DTSTART:20210101T000000
END:STANDARD
END:VTIMEZONE
BEGIN:VEVENT
DTSTART;TZID=UTC:20260328T170000
DTEND;TZID=UTC:20260328T200000
DTSTAMP:20260423T111756
CREATED:20260225T070747Z
LAST-MODIFIED:20260313T224627Z
UID:2473-1774717200-1774728000@tc-sigmarszell.de
SUMMARY:Jahreshauptversammlung TC Sigmarszell
DESCRIPTION:Einladung und Tagesordnung der Jahreshauptversammlung 2026 des TC SigmarszellHerunterladen
URL:https://tc-sigmarszell.de/event/jahreshauptversammlung-tc-sigmarszell-2/
END:VEVENT
BEGIN:VEVENT
DTSTART;TZID=UTC:20251025T190000
DTEND;TZID=UTC:20251025T223000
DTSTAMP:20260423T111756
CREATED:20251009T161527Z
LAST-MODIFIED:20251009T161529Z
UID:2451-1761418800-1761431400@tc-sigmarszell.de
SUMMARY:Schafkopfturnier
DESCRIPTION:Wie jedes Jahr findet auch heuer wieder unser Schafkopfturnier im TCS Vereinsheim statt. Wir hoffen auf viele Teilnehmer und wünschen allseits „Gut’Blatt!“
URL:https://tc-sigmarszell.de/event/schafkopfturnier/
END:VEVENT
BEGIN:VEVENT
DTSTART;TZID=UTC:20251017T180000
DTEND;TZID=UTC:20251017T190000
DTSTAMP:20260423T111756
CREATED:20251009T161321Z
LAST-MODIFIED:20251009T161659Z
UID:2449-1760724000-1760727600@tc-sigmarszell.de
SUMMARY:Außerordentliche Mitgliederversammlung
DESCRIPTION:Zur Abstimmung steht der überarbeitete Satzungsentwurf des TC Sigmarszell. Dieser ist auf der Website mit folgendem Link einsehbar: \n\n\n\nhttps://tc-sigmarszell.de/wp-content/uploads/2025/10/Satzung-TCS-Entwurf-Oktober-2025.pdf \n\n\n\n \n\n\n\nEinladung zur außerordentlichen Mitgliederversammlung TC SigmarszellHerunterladen
URL:https://tc-sigmarszell.de/event/ausserordentliche-mitgliederversammlung/
END:VEVENT
BEGIN:VEVENT
DTSTART;TZID=UTC:20250726T173000
DTEND;TZID=UTC:20250726T220000
DTSTAMP:20260423T111756
CREATED:20250606T071751Z
LAST-MODIFIED:20250606T071752Z
UID:2372-1753551000-1753567200@tc-sigmarszell.de
SUMMARY:Clubmeisterschaft Finalspiele & Clubabend
DESCRIPTION:U10\, U15\, Damen\, Herren mit anschließender Siegerehrung und Clubabend
URL:https://tc-sigmarszell.de/event/clubmeisterschaft-finalspiele-clubabend/
END:VEVENT
BEGIN:VEVENT
DTSTART;TZID=UTC:20250725T173000
DTEND;TZID=UTC:20250725T203000
DTSTAMP:20260423T111756
CREATED:20250606T071421Z
LAST-MODIFIED:20250606T071422Z
UID:2370-1753464600-1753475400@tc-sigmarszell.de
SUMMARY:Clubmeisterschaft Halbfinalspiele
DESCRIPTION:U10\, Damen\, Herren
URL:https://tc-sigmarszell.de/event/clubmeisterschaft-halbfinalspiele/
END:VEVENT
BEGIN:VEVENT
DTSTART;TZID=UTC:20250518T100000
DTEND;TZID=UTC:20250518T160000
DTSTAMP:20260423T111756
CREATED:20250514T110645Z
LAST-MODIFIED:20250514T110717Z
UID:2297-1747562400-1747584000@tc-sigmarszell.de
SUMMARY:Heimspiel Herren - TC Sonthofen
DESCRIPTION:Wir freuen uns auf zahlreiche Zuschauer und Fans
URL:https://tc-sigmarszell.de/event/heimspiel-herren-tc-sonthofen/
END:VEVENT
BEGIN:VEVENT
DTSTART;TZID=UTC:20250517T140000
DTEND;TZID=UTC:20250517T190000
DTSTAMP:20260423T111756
CREATED:20250514T110504Z
LAST-MODIFIED:20250514T110506Z
UID:2295-1747490400-1747508400@tc-sigmarszell.de
SUMMARY:Heimspiel Damen 40 - TC Pfronten II
DESCRIPTION:Wir freuen uns auf zahlreiche Zuschauer und Fans
URL:https://tc-sigmarszell.de/event/heimspiel-damen-40-tc-pfronten-ii/
END:VEVENT
BEGIN:VEVENT
DTSTART;TZID=UTC:20250517T100000
DTEND;TZID=UTC:20250517T140000
DTSTAMP:20260423T111756
CREATED:20250514T110324Z
LAST-MODIFIED:20250514T110325Z
UID:2293-1747476000-1747490400@tc-sigmarszell.de
SUMMARY:Heimspiel Herren 50 - TC Kempten II
DESCRIPTION:Wir freuen uns auf zahlreiche Zuschauer und Fans.
URL:https://tc-sigmarszell.de/event/heimspiel-herren-50-tc-kempten-ii/
END:VEVENT
BEGIN:VEVENT
DTSTART;TZID=UTC:20250503T100000
DTEND;TZID=UTC:20250503T160000
DTSTAMP:20260423T111756
CREATED:20250416T080110Z
LAST-MODIFIED:20250503T070353Z
UID:2201-1746266400-1746288000@tc-sigmarszell.de
SUMMARY:Tag der offenen Tür mit anschließendem Schleifchenturnier
DESCRIPTION:ACHTUNG: DER TAG DER OFFENEN TÜR FINDET STATT UND WIRD AUFGRUND DES WETTERS BIS 16 UHR VERLÄNGERT. FÜR DEN NACHMITTAG IST EINE WETTERBESSERUNG IN SICHT.
URL:https://tc-sigmarszell.de/event/tag-der-offenen-tuer-2/
END:VEVENT
BEGIN:VEVENT
DTSTART;TZID=UTC:20250410T190000
DTEND;TZID=UTC:20250410T210000
DTSTAMP:20260423T111756
CREATED:20250329T122656Z
LAST-MODIFIED:20250329T122656Z
UID:2193-1744311600-1744318800@tc-sigmarszell.de
SUMMARY:Jahreshauptversammlung TC Sigmarszell
DESCRIPTION:Der TC Sigmarszell lädt alle Mitglieder zur diesjährigen Jahreshauptversammlung ein.Wir freuen uns über zahlreiches Erscheinen. \n\n\n\nDie Vorstandschaft des TC Sigmarszell \n\n\n\nEinladung JHV 2025Herunterladen
URL:https://tc-sigmarszell.de/event/jahreshauptversammlung-tc-sigmarszell/
END:VEVENT
BEGIN:VEVENT
DTSTART;TZID=UTC:20241102T190000
DTEND;TZID=UTC:20241102T230000
DTSTAMP:20260423T111756
CREATED:20221019T131345Z
LAST-MODIFIED:20241026T063845Z
UID:1100-1730574000-1730588400@tc-sigmarszell.de
SUMMARY:Einladung zum TCS Preisschafkopf 2024
DESCRIPTION:(Offene Clubmeisterschaft) \n\n\n\n\n\nNachdem die Clubmeisterschaften im Tennis gespielt sind finden nun die offenen Clubmeisterschaften im Schafkopf im TCS Clubheim statt. Alle TCS-ler\, Freunde und Gäste\, bitte 20 Minuten vor Spielbeginn anwesend sein. Clubmeister darf sich der Sieger aber natürlich nur nennen\, wenn er ein Mitglied des TCS ist 😉
URL:https://tc-sigmarszell.de/event/einladung-zum-preisschafkopf/
LOCATION:Clubhaus\, Weiherstraße 13\, Sigmarszell\, Bayern\, 81838\, Deutschland
ATTACH;FMTTYPE=image/jpeg:https://tc-sigmarszell.de/wp-content/uploads/2022/10/playing-cards-2205554_960_720.jpg
END:VEVENT
BEGIN:VEVENT
DTSTART;TZID=UTC:20240623T103000
DTEND;TZID=UTC:20240623T140000
DTSTAMP:20260423T111756
CREATED:20240415T191108Z
LAST-MODIFIED:20240415T191230Z
UID:1784-1719138600-1719151200@tc-sigmarszell.de
SUMMARY:50 Jahre TCS - Teil 2
DESCRIPTION:Frühschoppen mit Weisswurst und Jugendkapelle Weissensberg
URL:https://tc-sigmarszell.de/event/50-jahre-tcs-2/
END:VEVENT
BEGIN:VEVENT
DTSTART;TZID=UTC:20240622T143000
DTEND;TZID=UTC:20240622T233000
DTSTAMP:20260423T111756
CREATED:20240121T184450Z
LAST-MODIFIED:20240415T191502Z
UID:1723-1719066600-1719099000@tc-sigmarszell.de
SUMMARY:50 Jahre TCS - Teil 1
DESCRIPTION:Für Details sind auf 50 Jahre TCS zu finden
URL:https://tc-sigmarszell.de/event/50-jahre-tcs/
END:VEVENT
BEGIN:VEVENT
DTSTART;TZID=UTC:20240428T103000
DTEND;TZID=UTC:20240428T140000
DTSTAMP:20260423T111756
CREATED:20240409T185836Z
LAST-MODIFIED:20240409T185838Z
UID:1773-1714300200-1714312800@tc-sigmarszell.de
SUMMARY:Saisoneröffnung
DESCRIPTION:
URL:https://tc-sigmarszell.de/event/saisoneroeffnung-2/
END:VEVENT
BEGIN:VEVENT
DTSTART;TZID=UTC:20240427T100000
DTEND;TZID=UTC:20240427T140000
DTSTAMP:20260423T111756
CREATED:20240313T190702Z
LAST-MODIFIED:20240409T190255Z
UID:1747-1714212000-1714226400@tc-sigmarszell.de
SUMMARY:Tag der offenen Tür
DESCRIPTION:Hier geht’s zum Flyer
URL:https://tc-sigmarszell.de/event/tag-der-offenen-tuer/
END:VEVENT
BEGIN:VEVENT
DTSTART;TZID=UTC:20240425T190000
DTEND;TZID=UTC:20240425T213000
DTSTAMP:20260423T111756
CREATED:20240121T185016Z
LAST-MODIFIED:20240305T182343Z
UID:1725-1714071600-1714080600@tc-sigmarszell.de
SUMMARY:Jahreshauptversammlung
DESCRIPTION:Agenda folgt
URL:https://tc-sigmarszell.de/event/jahreshauptversammlung-2/
END:VEVENT
BEGIN:VEVENT
DTSTART;TZID=UTC:20231208T170000
DTEND;TZID=UTC:20231208T200000
DTSTAMP:20260423T111756
CREATED:20231027T063400Z
LAST-MODIFIED:20231027T063404Z
UID:1719-1702054800-1702065600@tc-sigmarszell.de
SUMMARY:Adventsglühen im TCS
DESCRIPTION:Auch dieses Jahr findet im TCS wieder ein besinnliches Adventsglühen im Vereinsheim statt.Im Rahmen der Veranstaltung wird u.a. die Siegerehrung der Vielspieler (Jugend) durchgeführt. Für das leibliche Wohl wird es Glühwein\, Kinderpunsch\, eine Feuerschale und Stockbrot geben.Wir freuen uns auf ein zahlreiches Erscheinen. \n\n\n\nEure Vorstandschaft
URL:https://tc-sigmarszell.de/event/adventsgluehen-im-tcs/
END:VEVENT
BEGIN:VEVENT
DTSTART;TZID=UTC:20231021T190000
DTEND;TZID=UTC:20231021T210000
DTSTAMP:20260423T111756
CREATED:20231018T052550Z
LAST-MODIFIED:20231018T052551Z
UID:1709-1697914800-1697922000@tc-sigmarszell.de
SUMMARY:Schafkopf-Turnier
DESCRIPTION:Wie jedes Jahr veranstalten wir Ende Oktober unser Schafkopfturnier.Teilnahmegebühr: 10 €Alle\, die mitspielen möchten\, sollten bitte 20 Minuten vor offiziellem Beginn da sein. \n\n\n\nWir freuen uns über zahlreiche Teilnehmerinnen und Teilnehmer.
URL:https://tc-sigmarszell.de/event/schafkopf-turnier/
END:VEVENT
BEGIN:VEVENT
DTSTART;TZID=UTC:20230917T103000
DTEND;TZID=UTC:20230917T180000
DTSTAMP:20260423T111756
CREATED:20230913T083751Z
LAST-MODIFIED:20230913T084000Z
UID:1666-1694946600-1694973600@tc-sigmarszell.de
SUMMARY:Clubmeisterschaften Finalspiele + Siegerehrung
DESCRIPTION:Es werden je zwei Einzel parallel gespielt (Platz 1 und 2) \n\n\n\n10:30     Finals der U12M und U15M \n\n\n\n13:30     Finale Nebenrunde Herren und Spiel um Platz 3 Hauptrunde Herren \n\n\n\n15:30     Finals der Damen und Hauptrunde Herren \n\n\n\n17:30     Siegerehrung durch die Turnierleitung \n\n\n\nHinweis: Der Austragungszeitpunkt des U15W Konkurrenz wird von der Turnierleitung in Absprache mit den Teilnehmerinnen kurzfristig festgelegt
URL:https://tc-sigmarszell.de/event/clubmeisterschaften-finalspiele-siegerehrung/
END:VEVENT
BEGIN:VEVENT
DTSTART;TZID=UTC:20230916T173000
DTEND;TZID=UTC:20230916T173000
DTSTAMP:20260423T111756
CREATED:20230913T082726Z
LAST-MODIFIED:20230913T082728Z
UID:1662-1694885400-1694885400@tc-sigmarszell.de
SUMMARY:TCS Oktoberfest 2023
DESCRIPTION:Auch dieses Jahr feiern wir wieder ein Oktoberfest\, zu dem alle Mitglieder herzlich eingeladen sind. Dieses beginnt unmittelbar nach den Clubmeisterschaft-Halbfinals der Haupt- und Nebenrunde (Herren-Konkurrenz). Wir hoffen auf zahlreiche Zuschauer und viele Festbesucher.  \n\n\n\nMit sportlichen Grüßen \n\n\n\nEure Vorstandschaft
URL:https://tc-sigmarszell.de/event/tcs-oktoberfest-2023/
END:VEVENT
BEGIN:VEVENT
DTSTART;TZID=UTC:20230916T133000
DTEND;TZID=UTC:20230916T173000
DTSTAMP:20260423T111756
CREATED:20230913T083203Z
LAST-MODIFIED:20230913T084033Z
UID:1664-1694871000-1694885400@tc-sigmarszell.de
SUMMARY:Clubmeisterschaften Halbfinale (Hauptrunde/Nebenrunde Herren)
DESCRIPTION:Es werden je zwei Einzel parallel gespielt (Platz 1 und 2) \n\n\n\n13:30     Halbfinale Nebenrunde Herren \n\n\n\n15:30     Halbfinale Hauptrunde Herren
URL:https://tc-sigmarszell.de/event/clubmeisterschaften-halbfinale-hauptrunde-nebenrunde-herren/
END:VEVENT
BEGIN:VEVENT
DTSTART;TZID=UTC:20230728T080000
DTEND;TZID=UTC:20230917T160000
DTSTAMP:20260423T111756
CREATED:20230804T163039Z
LAST-MODIFIED:20230914T180617Z
UID:1635-1690531200-1694966400@tc-sigmarszell.de
SUMMARY:TCS Clubmeisterschaften Einzel
DESCRIPTION:Am 27.07.2023 wurden von der sportlichen Leitung die Spiele der diesjährigen TCS Clubmeisterschaften der Damen\, Herren\, U15 Mädchen\, U15 Jungen und U12 ausgelost. Die Listen hängen im Clubheim gegenüber der Stecktafel aus. Gespielt werden darf bis zum 13.09.2023 (individuelle Vereinbarung).  \n\n\n\nAlle Details findet Ihr in der Ausschreibung \n\n\n\nVorläufige Spielansetzungen für das Finalwochenende (nur bei stabilen Wetterverhältnissen\, jeweils auf Platz 1 und 2):Samstag\, 16.09.2023:       \n\n\n\n13:30 Halbfinals Nebenrunde Herren15:30 Halbfinals Hauptrunde Herren \n\n\n\nSonntag 17.09.2023:        \n\n\n\n10:30 Finale U12M & U15M13:30 Finale Nebenrunde Herren und Spiel um Platz 3 Hauptrunde Herren15:30 Finale Damen und Hauptrunde Herren \n\n\n\nHinweis: Der Austragungszeitpunkt der U15W Konkurrenz wird von der Turnierleitung in Absprache mit den Teilnehmerinnen kurzfristig festgelegt
URL:https://tc-sigmarszell.de/event/tcs-clubmeisterschaften-einzel/
END:VEVENT
BEGIN:VEVENT
DTSTART;TZID=UTC:20230722T100000
DTEND;TZID=UTC:20230722T140000
DTSTAMP:20260423T111756
CREATED:20230616T071243Z
LAST-MODIFIED:20230623T070753Z
UID:1473-1690020000-1690034400@tc-sigmarszell.de
SUMMARY:Kinder-Flohmarkt
DESCRIPTION:Wir werden dieses Jahr einen Flohmarkt auf dem TCS Parkplatz veranstalten.Alle Details dazu findet Ihr hier
URL:https://tc-sigmarszell.de/event/eltern-kind-turnier/
END:VEVENT
BEGIN:VEVENT
DTSTART;TZID=UTC:20230715T180000
DTEND;TZID=UTC:20230715T220000
DTSTAMP:20260423T111756
CREATED:20230616T070931Z
LAST-MODIFIED:20230616T070932Z
UID:1471-1689444000-1689458400@tc-sigmarszell.de
SUMMARY:TCS Sommerfest 2023 - Save the Date!
DESCRIPTION:Hallo liebe Tennisfreunde. Auch dieses Jahr werden wir wieder ein TCS Sommerfest auf die Beine stellen.Details werden noch rechtzeitig bekanntgegeben. \n\n\n\nEure Vorstandschaft
URL:https://tc-sigmarszell.de/event/tcs-sommerfest-2023-save-the-date/
END:VEVENT
BEGIN:VEVENT
DTSTART;TZID=UTC:20230429T113000
DTEND;TZID=UTC:20230429T180000
DTSTAMP:20260423T111756
CREATED:20230324T065609Z
LAST-MODIFIED:20230324T065610Z
UID:1224-1682767800-1682791200@tc-sigmarszell.de
SUMMARY:Saisoneröffnung
DESCRIPTION:Heute starten wir offiziell in die Tennissaison 2023. U.a. werden wir Grillen und ein Schleifchen-Turnier durchführen…
URL:https://tc-sigmarszell.de/event/saisoneroeffnung/
END:VEVENT
BEGIN:VEVENT
DTSTART;TZID=UTC:20230423T100000
DTEND;TZID=UTC:20230423T170000
DTSTAMP:20260423T111756
CREATED:20230324T065159Z
LAST-MODIFIED:20230412T150234Z
UID:1222-1682244000-1682269200@tc-sigmarszell.de
SUMMARY:Lust auf Tennis oder Boule?
DESCRIPTION:Der TC Sigmarszell lädt alle\, die Interesse am Tennis- oder Boulesport haben herzlich auf die Club-Anlage ein. \n\n\n\nAlle Details hier
URL:https://tc-sigmarszell.de/event/lust-auf-tennis/
END:VEVENT
BEGIN:VEVENT
DTSTART;TZID=UTC:20230421T193000
DTEND;TZID=UTC:20230421T213000
DTSTAMP:20260423T111756
CREATED:20220315T195302Z
LAST-MODIFIED:20230321T172112Z
UID:914-1682105400-1682112600@tc-sigmarszell.de
SUMMARY:Jahreshauptversammlung
DESCRIPTION:Tagesordnung:\n\n\n\n \n\n\n\n\n1. Begrüßung und Feststellung der Beschlussfähigkeit\n\n\n\n\n\n2. Berichte der Vorstände und Abteilungsleiter\n\n\n\n3. Kassenbericht\n\n\n\n4. Kassenprüfungsbericht\n\n\n\n5. Entlastung des Kassierers\n\n\n\n6. Entlastung der Vorstandschaft\n\n\n\n7. Wahl der Kernvorstandschaft\n\n\n\n8. Wahl der Kassenprüfer\n\n\n\n9. Antrag auf Verlängerung der Platzumlage\n\n\n\n10. Ausblick u. Termine für die Saison 2023\n\n\n\n11. Sonstiges\, Anträge und AnregungenDie Vorstandschaft
URL:https://tc-sigmarszell.de/event/jahreshauptversammlung/
LOCATION:Clubhaus\, Weiherstraße 13\, Sigmarszell\, Bayern\, 81838\, Deutschland
END:VEVENT
BEGIN:VEVENT
DTSTART;TZID=UTC:20221202T170000
DTEND;TZID=UTC:20221202T200000
DTSTAMP:20260423T111756
CREATED:20221116T194652Z
LAST-MODIFIED:20221116T200911Z
UID:1147-1670000400-1670011200@tc-sigmarszell.de
SUMMARY:1. TCS Adventsglühen
DESCRIPTION:Hallo liebe Mitglieder\, \n\n\n\ndas Jahr 2022 neigt sich dem Ende entgegen\, es sieht zwar aktuell noch nicht  \n\n\n\ndanach aus\, aber der Winter steht vor der Tür. Anstatt der Nikolausfeier veranstalten wir dieses Jahr \n\n\n\n          am  Freitag den  02.12.22   ab 17.00 Uhr \n\n\n\nerstmalig ein Adventsglühen bei uns am Clubhaus. \n\n\n\nIm Rahmen unserer Feier\, werden wir dann auch die Ehrung der Vielspieler vornehmen. \n\n\n\nWir würden uns sehr freuen\, wenn Ihr zahlreich zu unserem 1. Adventsglühen  kommt. \n\n\n\nEure Vorstandschaft \n\n\n\n \n\n\n\nAdventsgluehenHerunterladen
URL:https://tc-sigmarszell.de/event/1-tcs-adventsgluehen/
ATTACH;FMTTYPE=image/jpeg:https://tc-sigmarszell.de/wp-content/uploads/2022/11/advent.jpg
END:VEVENT
BEGIN:VEVENT
DTSTART;TZID=UTC:20220626T140000
DTEND;TZID=UTC:20220626T190000
DTSTAMP:20260423T111756
CREATED:20220613T095535Z
LAST-MODIFIED:20220613T100904Z
UID:964-1656252000-1656270000@tc-sigmarszell.de
SUMMARY:Tennis-Workshop
DESCRIPTION:Thema:\n\n\n\nMaßnahmen zur selbstständigen Verbesserung der Spielfähigkeit. \n\n\n\nDurchführung:\n\n\n\nOle Krack Fachsportlehrer der TU-München. \n\n\n\nTeil 1: Schlägercheck:\n\n\n\nSaitenzustand und elektronische Messung der aktuellen Bespannungshärte\, Bedeutung des Dämpfers\, die richtige Griffgröße und Griffbandkontrolle. \n\n\n\nTeil 2: Grundschläge:\n\n\n\nKurze Übungseinheiten Vorhand und Rückhand im freien Spiel und an der Ballmaschine (zeitlicher Rahmen ist abhängig von der Teilnehmeranzahl)Optische Analyse per Videoaufnahme und Korrektur in Präsenz. \n\n\n\n\n\n\n\nLiebe Mitglieder des TC-Sigmarszell\,am 26.06.22 ab 14:00 möchte ich euch gerne die Möglichkeit bieten an einem kostenlosen Workshop zum Thema „selbständige Verbesserung der Spielfähigkeit“ teilzunehmen. Dieser Workshop dient dem Kennenlernen und bietet euch die Gelegenheit die aktuelle Spielfähigkeit zu überprüfen und in der laufenden Saison selbständig daran zu arbeiten.Es würde mich freuen wenn Ihr euch dazu zahlreich anmeldet und wir uns an diesem Tag persönlich kennenlernen.Dieser Workshop ist kostenlos\, der Verein würde sich an diesem Tag aber sehr über eine kleine Spende für die Jugendkasse freuen.Die Mittel dienen der weiteren Förderung der zukünftigen Tennisjugend im TC-Sigmarszell. \n\n\n\n \n\n\n\n\n\n\n\nAnmeldungen bitte unter: info@netzwerk-tennis.de oder 0170-3277637 \n\n\n\nSportliche GrüßeOle Krack \n\n\n\n\n\n\n\nDownload\n\n\n\nWorkshop_Tennis_260622
URL:https://tc-sigmarszell.de/event/tennis-workshop/
LOCATION:Clubhaus\, Weiherstraße 13\, Sigmarszell\, Bayern\, 81838\, Deutschland
END:VEVENT
BEGIN:VEVENT
DTSTART;TZID=UTC:20220618T093000
DTEND;TZID=UTC:20220618T170000
DTSTAMP:20260423T111756
CREATED:20220610T031933Z
LAST-MODIFIED:20220610T032140Z
UID:958-1655544600-1655571600@tc-sigmarszell.de
SUMMARY:Mixed-Schleifchen-Doppelturnier
DESCRIPTION:Wir laden wieder ein zum beliebten Mixed-Schleifchen-Doppelturnier am 18.06.22 ab 09.30 Uhr auf unserer Anlage.  \n\n\n\nAnmeldungen sind nicht erforderlich\, einfach kommen und spielen. \n\n\n\nUnsere Wirtsleute sorgen für Speis und Trank. \n\n\n\nWir freuen uns über zahlreiche Teilnahmen und einen sicher spannenden Tag.
URL:https://tc-sigmarszell.de/event/mixed-schleifchen-doppelturnier/
LOCATION:Clubhaus\, Weiherstraße 13\, Sigmarszell\, Bayern\, 81838\, Deutschland
ATTACH;FMTTYPE=image/jpeg:https://tc-sigmarszell.de/wp-content/uploads/2022/06/tennis-g2a674c030_1920.jpg
END:VEVENT
END:VCALENDAR